BEGIN:VCALENDAR
VERSION:2.0
PRODID:-//wp-events-plugin.com//7.2.3.1//EN
BEGIN:VEVENT
UID:4@luangisaafricanmuseum.org
DTSTART;VALUE=DATE:20230805
DTEND;VALUE=DATE:20230806
DTSTAMP:20230515T124546Z
URL:https://luangisaafricanmuseum.org/events/taste-of-tanzania/
SUMMARY:Taste of Tanzania
DESCRIPTION:
ATTACH;FMTTYPE=image/jpeg:https://luangisaafricanmuseum.org/wp-content/upl
 oads/2023/04/eventbanner-scaled.jpg
LOCATION:https://www.eventbrite.com/e/taste-of-tanzania-gala-tickets-592650
 863687
END:VEVENT
END:VCALENDAR